BEGIN:VCALENDAR
VERSION:2.0
PRODID:-//masc.org - ECPv6.15.20//NONSGML v1.0//EN
CALSCALE:GREGORIAN
METHOD:PUBLISH
X-ORIGINAL-URL:https://www.masc.org
X-WR-CALDESC:Events for masc.org
REFRESH-INTERVAL;VALUE=DURATION:PT1H
X-Robots-Tag:noindex
X-PUBLISHED-TTL:PT1H
BEGIN:VTIMEZONE
TZID:America/New_York
BEGIN:DAYLIGHT
TZOFFSETFROM:-0500
TZOFFSETTO:-0400
TZNAME:EDT
DTSTART:20210314T070000
END:DAYLIGHT
BEGIN:STANDARD
TZOFFSETFROM:-0400
TZOFFSETTO:-0500
TZNAME:EST
DTSTART:20211107T060000
END:STANDARD
BEGIN:DAYLIGHT
TZOFFSETFROM:-0500
TZOFFSETTO:-0400
TZNAME:EDT
DTSTART:20220313T070000
END:DAYLIGHT
BEGIN:STANDARD
TZOFFSETFROM:-0400
TZOFFSETTO:-0500
TZNAME:EST
DTSTART:20221106T060000
END:STANDARD
BEGIN:DAYLIGHT
TZOFFSETFROM:-0500
TZOFFSETTO:-0400
TZNAME:EDT
DTSTART:20230312T070000
END:DAYLIGHT
BEGIN:STANDARD
TZOFFSETFROM:-0400
TZOFFSETTO:-0500
TZNAME:EST
DTSTART:20231105T060000
END:STANDARD
END:VTIMEZONE
BEGIN:VEVENT
DTSTART;TZID=America/New_York:20220715T161500
DTEND;TZID=America/New_York:20220716T120000
DTSTAMP:20260421T091246
CREATED:20220609T215525Z
LAST-MODIFIED:20220811T170040Z
UID:10000441-1657901700-1657972800@www.masc.org
SUMMARY:2022 MASC Summer Institute
DESCRIPTION:Join your MASC colleagues at an information-packed summer session that will update you on managing new realities (and challenges) around school committee meetings\, leadership\, and taking care of yourself in the process. Register for one day\, or both\, but register. You will thank yourself for the rest of the year. \n  \nCONFERENCE DETAILS\nDate:Â Friday\, July 15 (4:00pm – 5:30pm) – Saturday\, July 16 (9:00am – 12:00pm)\nLocation:Â Courtyard Marriott\, Marlborough (directions)\nCost:Â 1-day – $60; Both Days – $90 \n  \nAGENDA\nFriday\, July 15Â (4:15-5:30pm) \n\nMeeting Management\nMIAA: Growing Courageous Leaders of Tomorrow\n\nSaturday\, July 16 (9:00am – 12:00pm) \n\nStudent Advisory Committee: Effective School Committee/ Student Representative Relationships (9:15-10:30am)\nRethinking Public Comment Period: Doâ€™s. Donâ€™ts. How to Manage It (9:15-10:30am)\nRole of the Chair (10:45am-Noon)\nThe Importance of Wellness: Taking Care of YOU! (10:45am-Noon)\n\nHOTEL INFORMATION\nBoth single day ($60) and the two-day ($90) registrations are available. The program will be held at the Marriott Court-yard in Marlboro\, which is offering a discount rate ($149/night for a limited number of rooms) to MASC attendees who want to stay overnight.Â Reserve your hotel room using this link. \nRegistration includes all materials\, Friday and Saturday coffee/snack breaks and Saturday
URL:https://www.masc.org/event/2022-masc-summer-institute/
LOCATION:MA
END:VEVENT
END:VCALENDAR