BEGIN:VCALENDAR
VERSION:2.0
PRODID:-//masc.org - ECPv6.15.20//NONSGML v1.0//EN
CALSCALE:GREGORIAN
METHOD:PUBLISH
X-ORIGINAL-URL:https://www.masc.org
X-WR-CALDESC:Events for masc.org
REFRESH-INTERVAL;VALUE=DURATION:PT1H
X-Robots-Tag:noindex
X-PUBLISHED-TTL:PT1H
BEGIN:VTIMEZONE
TZID:America/New_York
BEGIN:DAYLIGHT
TZOFFSETFROM:-0500
TZOFFSETTO:-0400
TZNAME:EDT
DTSTART:20230312T070000
END:DAYLIGHT
BEGIN:STANDARD
TZOFFSETFROM:-0400
TZOFFSETTO:-0500
TZNAME:EST
DTSTART:20231105T060000
END:STANDARD
BEGIN:DAYLIGHT
TZOFFSETFROM:-0500
TZOFFSETTO:-0400
TZNAME:EDT
DTSTART:20240310T070000
END:DAYLIGHT
BEGIN:STANDARD
TZOFFSETFROM:-0400
TZOFFSETTO:-0500
TZNAME:EST
DTSTART:20241103T060000
END:STANDARD
BEGIN:DAYLIGHT
TZOFFSETFROM:-0500
TZOFFSETTO:-0400
TZNAME:EDT
DTSTART:20250309T070000
END:DAYLIGHT
BEGIN:STANDARD
TZOFFSETFROM:-0400
TZOFFSETTO:-0500
TZNAME:EST
DTSTART:20251102T060000
END:STANDARD
END:VTIMEZONE
BEGIN:VEVENT
DTSTART;TZID=America/New_York:20240320T183000
DTEND;TZID=America/New_York:20240320T193000
DTSTAMP:20260424T171903
CREATED:20240318T160524Z
LAST-MODIFIED:20240318T160524Z
UID:10000901-1710959400-1710963000@www.masc.org
SUMMARY:MASC Special Education Update – The New IEP Form and What You Need to Know
DESCRIPTION:Join us online this Wednesday evening at 6:30pm to learn more about DESEs new IEP Form and what you need to know. In addition to the IEP Form\, we’ll also be discussing the announcement earlier today by Acting Commissioner Russell Johnston regarding changes to DESEs Special Education Leadership. \nWe’ll be joined by MASC Special Education Chair and Holyoke School Committee Member\, Ellie Wilson\, MASC Executive Director Glenn Koocher\, and MASC Field Director Alicia Mallon.  \nThis event is proudly sponsored by the MASC Special Education Committee. If you have an interest in joining the Special Education Committee please contact Ellie Wilson by email at ewilson01040@gmail.com.
URL:https://www.masc.org/event/masc-special-education-update-the-new-iep-form-and-what-you-need-to-know/
LOCATION:MA
CATEGORIES:Workshop
END:VEVENT
END:VCALENDAR