BEGIN:VCALENDAR
VERSION:2.0
PRODID:-//masc.org - ECPv6.15.20//NONSGML v1.0//EN
CALSCALE:GREGORIAN
METHOD:PUBLISH
X-ORIGINAL-URL:https://www.masc.org
X-WR-CALDESC:Events for masc.org
REFRESH-INTERVAL;VALUE=DURATION:PT1H
X-Robots-Tag:noindex
X-PUBLISHED-TTL:PT1H
BEGIN:VTIMEZONE
TZID:America/New_York
BEGIN:DAYLIGHT
TZOFFSETFROM:-0500
TZOFFSETTO:-0400
TZNAME:EDT
DTSTART:20240310T070000
END:DAYLIGHT
BEGIN:STANDARD
TZOFFSETFROM:-0400
TZOFFSETTO:-0500
TZNAME:EST
DTSTART:20241103T060000
END:STANDARD
BEGIN:DAYLIGHT
TZOFFSETFROM:-0500
TZOFFSETTO:-0400
TZNAME:EDT
DTSTART:20250309T070000
END:DAYLIGHT
BEGIN:STANDARD
TZOFFSETFROM:-0400
TZOFFSETTO:-0500
TZNAME:EST
DTSTART:20251102T060000
END:STANDARD
BEGIN:DAYLIGHT
TZOFFSETFROM:-0500
TZOFFSETTO:-0400
TZNAME:EDT
DTSTART:20260308T070000
END:DAYLIGHT
BEGIN:STANDARD
TZOFFSETFROM:-0400
TZOFFSETTO:-0500
TZNAME:EST
DTSTART:20261101T060000
END:STANDARD
END:VTIMEZONE
BEGIN:VEVENT
DTSTART;TZID=America/New_York:20250331T183000
DTEND;TZID=America/New_York:20250331T193000
DTSTAMP:20260423T133831
CREATED:20250307T214249Z
LAST-MODIFIED:20250310T180944Z
UID:10001062-1743445800-1743449400@www.masc.org
SUMMARY:Division VII Roundtable Discussion: Engaging with the Public
DESCRIPTION:With the many difficult decisions School Committee Members have to make\, what are best practices for dealing with public outcry? How do we manage challenging public comment periods\, an influx of e-mails\, social media accusations\, requests for comments from the press? Join us for an interactive discussion on how to handle public engagement during a time of crisis and discord. *This event is open to all School Committee Members across the state. 
URL:https://www.masc.org/event/division-vii-meeting-engaging-with-the-public/
LOCATION:MA
CATEGORIES:Division Meetings
END:VEVENT
END:VCALENDAR