BEGIN:VCALENDAR
VERSION:2.0
PRODID:-//masc.org - ECPv6.15.20//NONSGML v1.0//EN
CALSCALE:GREGORIAN
METHOD:PUBLISH
X-WR-CALNAME:masc.org
X-ORIGINAL-URL:https://www.masc.org
X-WR-CALDESC:Events for masc.org
REFRESH-INTERVAL;VALUE=DURATION:PT1H
X-Robots-Tag:noindex
X-PUBLISHED-TTL:PT1H
BEGIN:VTIMEZONE
TZID:America/New_York
BEGIN:DAYLIGHT
TZOFFSETFROM:-0500
TZOFFSETTO:-0400
TZNAME:EDT
DTSTART:20240310T070000
END:DAYLIGHT
BEGIN:STANDARD
TZOFFSETFROM:-0400
TZOFFSETTO:-0500
TZNAME:EST
DTSTART:20241103T060000
END:STANDARD
BEGIN:DAYLIGHT
TZOFFSETFROM:-0500
TZOFFSETTO:-0400
TZNAME:EDT
DTSTART:20250309T070000
END:DAYLIGHT
BEGIN:STANDARD
TZOFFSETFROM:-0400
TZOFFSETTO:-0500
TZNAME:EST
DTSTART:20251102T060000
END:STANDARD
BEGIN:DAYLIGHT
TZOFFSETFROM:-0500
TZOFFSETTO:-0400
TZNAME:EDT
DTSTART:20260308T070000
END:DAYLIGHT
BEGIN:STANDARD
TZOFFSETFROM:-0400
TZOFFSETTO:-0500
TZNAME:EST
DTSTART:20261101T060000
END:STANDARD
END:VTIMEZONE
BEGIN:VEVENT
DTSTART;TZID=America/New_York:20250719T090000
DTEND;TZID=America/New_York:20250719T150000
DTSTAMP:20260421T094951
CREATED:20250603T170250Z
LAST-MODIFIED:20250603T170250Z
UID:10001072-1752915600-1752937200@www.masc.org
SUMMARY:2025 Summer Institute: Collective Bargaining Bootcamp
DESCRIPTION:Collective bargaining has led the news recently in too many Massachusetts school districts. Increasingly\, negotiations have ranged from difficult to downright contentious and often disintegrated from there. A growing number of communities have been subjected to days-long strike action\, leaving students and families anxious\, confused\, and often\, without recourse. If the prospect of upcoming negotiations in your district is adding layers to your stress level\, it’s time to step back\, settle down\, and hear from experts and those who have been through it at MASC’s Collective Bargaining Bootcamp. \nWhat to Expect\nThis one-day immersive\, interactive program will prepare you for negotiations\, and the challenges you may encounter. In this Collective Bargaining 201 session\, presenters will review the legal framework\, timeline and process of bargaining\, and setting ground rules for the discussions. Participants will learn about gathering and using comparative data\, setting goals and priorities\, building your bargaining team\, and working effectively with your superintendent and counsel. Presenters will also focus on navigating difficult conversations and tough proposals: when to push back and how; managing public pressure and messaging; mediation and fact finding; and recent hot button issues (remote work\, staffing levels\, DEI language). The day will also include a mock collective bargaining session followed by a debrief and guidance on moving forward post settlement\, including strategies for rebuilding a healthy relationship with staff.
URL:https://www.masc.org/event/2025-summer-institute-collective-bargaining-bootcamp/
LOCATION:UMASS Amherst Henry M. Thomas III Center\, 1500 Main St.\, Suite 260\, Springfield\, MA\, 01115\, United States
ATTACH;FMTTYPE=image/png:https://www.masc.org/wp-content/uploads/2025/05/summer-institute.png
END:VEVENT
END:VCALENDAR