BEGIN:VCALENDAR
VERSION:2.0
PRODID:-//masc.org - ECPv6.15.20//NONSGML v1.0//EN
CALSCALE:GREGORIAN
METHOD:PUBLISH
X-ORIGINAL-URL:https://www.masc.org
X-WR-CALDESC:Events for masc.org
REFRESH-INTERVAL;VALUE=DURATION:PT1H
X-Robots-Tag:noindex
X-PUBLISHED-TTL:PT1H
BEGIN:VTIMEZONE
TZID:America/New_York
BEGIN:DAYLIGHT
TZOFFSETFROM:-0500
TZOFFSETTO:-0400
TZNAME:EDT
DTSTART:20240310T070000
END:DAYLIGHT
BEGIN:STANDARD
TZOFFSETFROM:-0400
TZOFFSETTO:-0500
TZNAME:EST
DTSTART:20241103T060000
END:STANDARD
BEGIN:DAYLIGHT
TZOFFSETFROM:-0500
TZOFFSETTO:-0400
TZNAME:EDT
DTSTART:20250309T070000
END:DAYLIGHT
BEGIN:STANDARD
TZOFFSETFROM:-0400
TZOFFSETTO:-0500
TZNAME:EST
DTSTART:20251102T060000
END:STANDARD
BEGIN:DAYLIGHT
TZOFFSETFROM:-0500
TZOFFSETTO:-0400
TZNAME:EDT
DTSTART:20260308T070000
END:DAYLIGHT
BEGIN:STANDARD
TZOFFSETFROM:-0400
TZOFFSETTO:-0500
TZNAME:EST
DTSTART:20261101T060000
END:STANDARD
END:VTIMEZONE
BEGIN:VEVENT
DTSTART;TZID=America/New_York:20250926T120000
DTEND;TZID=America/New_York:20250926T130000
DTSTAMP:20260421T173450
CREATED:20250916T183506Z
LAST-MODIFIED:20250916T224456Z
UID:10001080-1758888000-1758891600@www.masc.org
SUMMARY:MASC Legal Learning Lunch: Implications of Mahmoud Case: Parental Opt-Out
DESCRIPTION:Join us for a timely Legal Learning Lunch exploring the recent Mahmoud decision and its implications for school districts. This session will provide an overview of the case\, its impact on parental rights when parent’s raise objections to curriculum based upon their religious beliefs and what the ruling means for local school committees and administrators moving forward. Attendees will gain practical insights on compliance\, policy considerations\, and strategies to address parental concerns while upholding legal and educational responsibilities.
URL:https://www.masc.org/event/masc-legal-learning-lunch-implications-of-mahmoud-case-parental-opt-out/
LOCATION:MA
CATEGORIES:Workshop
END:VEVENT
END:VCALENDAR