BEGIN:VCALENDAR
VERSION:2.0
PRODID:-//masc.org - ECPv6.15.20//NONSGML v1.0//EN
CALSCALE:GREGORIAN
METHOD:PUBLISH
X-WR-CALNAME:masc.org
X-ORIGINAL-URL:https://www.masc.org
X-WR-CALDESC:Events for masc.org
REFRESH-INTERVAL;VALUE=DURATION:PT1H
X-Robots-Tag:noindex
X-PUBLISHED-TTL:PT1H
BEGIN:VTIMEZONE
TZID:America/New_York
BEGIN:DAYLIGHT
TZOFFSETFROM:-0500
TZOFFSETTO:-0400
TZNAME:EDT
DTSTART:20250309T070000
END:DAYLIGHT
BEGIN:STANDARD
TZOFFSETFROM:-0400
TZOFFSETTO:-0500
TZNAME:EST
DTSTART:20251102T060000
END:STANDARD
BEGIN:DAYLIGHT
TZOFFSETFROM:-0500
TZOFFSETTO:-0400
TZNAME:EDT
DTSTART:20260308T070000
END:DAYLIGHT
BEGIN:STANDARD
TZOFFSETFROM:-0400
TZOFFSETTO:-0500
TZNAME:EST
DTSTART:20261101T060000
END:STANDARD
BEGIN:DAYLIGHT
TZOFFSETFROM:-0500
TZOFFSETTO:-0400
TZNAME:EDT
DTSTART:20270314T070000
END:DAYLIGHT
BEGIN:STANDARD
TZOFFSETFROM:-0400
TZOFFSETTO:-0500
TZNAME:EST
DTSTART:20271107T060000
END:STANDARD
END:VTIMEZONE
BEGIN:VEVENT
DTSTART;TZID=America/New_York:20260327T120000
DTEND;TZID=America/New_York:20260327T130000
DTSTAMP:20260423T101137
CREATED:20260129T185159Z
LAST-MODIFIED:20260130T200549Z
UID:10001095-1774612800-1774616400@www.masc.org
SUMMARY:Learning Lunch: Legislative Update
DESCRIPTION:Join MASC staff for a timely update on key education-related legislation as the formal legislative session draws to a close in the coming months. This Learning Lunch will highlight MASC’s current advocacy priorities\, what remains in play on Beacon Hill\, and where school committee voices can still have the greatest impact. The session will also preview MASC’s upcoming Day on the Hill set for March 30th\, including what to expect\, priority issues to raise with legislators\, and tips for making the most of your advocacy conversations. Whether you’re new to advocacy or a seasoned school committee member\, this session will help you feel informed\, prepared\, and confident heading into the State House.
URL:https://www.masc.org/event/learning-lunch-legislative-update/
LOCATION:MA
CATEGORIES:Workshop
ATTACH;FMTTYPE=image/png:https://www.masc.org/wp-content/uploads/2026/01/Other-MASC-Event-Images-19.png
END:VEVENT
END:VCALENDAR