BEGIN:VCALENDAR
VERSION:2.0
PRODID:-//masc.org - ECPv6.15.20//NONSGML v1.0//EN
CALSCALE:GREGORIAN
METHOD:PUBLISH
X-ORIGINAL-URL:https://www.masc.org
X-WR-CALDESC:Events for masc.org
REFRESH-INTERVAL;VALUE=DURATION:PT1H
X-Robots-Tag:noindex
X-PUBLISHED-TTL:PT1H
BEGIN:VTIMEZONE
TZID:America/New_York
BEGIN:DAYLIGHT
TZOFFSETFROM:-0500
TZOFFSETTO:-0400
TZNAME:EDT
DTSTART:20240310T070000
END:DAYLIGHT
BEGIN:STANDARD
TZOFFSETFROM:-0400
TZOFFSETTO:-0500
TZNAME:EST
DTSTART:20241103T060000
END:STANDARD
BEGIN:DAYLIGHT
TZOFFSETFROM:-0500
TZOFFSETTO:-0400
TZNAME:EDT
DTSTART:20250309T070000
END:DAYLIGHT
BEGIN:STANDARD
TZOFFSETFROM:-0400
TZOFFSETTO:-0500
TZNAME:EST
DTSTART:20251102T060000
END:STANDARD
BEGIN:DAYLIGHT
TZOFFSETFROM:-0500
TZOFFSETTO:-0400
TZNAME:EDT
DTSTART:20260308T070000
END:DAYLIGHT
BEGIN:STANDARD
TZOFFSETFROM:-0400
TZOFFSETTO:-0500
TZNAME:EST
DTSTART:20261101T060000
END:STANDARD
BEGIN:DAYLIGHT
TZOFFSETFROM:-0500
TZOFFSETTO:-0400
TZNAME:EDT
DTSTART:20270314T070000
END:DAYLIGHT
BEGIN:STANDARD
TZOFFSETFROM:-0400
TZOFFSETTO:-0500
TZNAME:EST
DTSTART:20271107T060000
END:STANDARD
END:VTIMEZONE
BEGIN:VEVENT
DTSTART;TZID=America/New_York:20250920T090000
DTEND;TZID=America/New_York:20250920T110000
DTSTAMP:20260420T163559
CREATED:20250903T173032Z
LAST-MODIFIED:20250903T173314Z
UID:10001077-1758358800-1758366000@www.masc.org
SUMMARY:Division VIII Meeting
DESCRIPTION:Join your fellow Division VIII members for a regional cluster meeting hosted at Minuteman Vocational Technical High School. This gathering provides an opportunity for school committee members to connect with colleagues\, share updates from across the division\, and discuss issues and initiatives impacting districts in our region.
URL:https://www.masc.org/event/division-viii-meeting/
LOCATION:Minuteman Vocational Technical High School\, 758 Marrett Road\, Lexington\, MA\, 02421\, United States
CATEGORIES:Division Meetings
END:VEVENT
BEGIN:VEVENT
DTSTART;TZID=America/New_York:20251016T120000
DTEND;TZID=America/New_York:20251016T130000
DTSTAMP:20260420T163559
CREATED:20250916T184925Z
LAST-MODIFIED:20251007T180728Z
UID:10001082-1760616000-1760619600@www.masc.org
SUMMARY:Division X Webinar: Equity 101 - Turning Equity Aspirations into Action 
DESCRIPTION:You are invited to join the second session of a new series of equity-centered Lunch and Learn webinars sponsored and facilitated by Division X.  This series is open to all members and is especially valuable for those seeking to strengthen their capacity to govern with clarity\, purpose\, and equity at the center. \nMany school committees have adopted equity-focused vision statements and policies\, but the real challenge is moving from words on paper to meaningful change in practice. This interactive session will highlight practical tools that will enable school committee members to operationalize equity in their decision-making and governance work. \n 
URL:https://www.masc.org/event/division-x-webinar-equity-201/
LOCATION:MA
CATEGORIES:Division Meetings,Workshop
END:VEVENT
BEGIN:VEVENT
DTSTART;TZID=America/New_York:20260123T120000
DTEND;TZID=America/New_York:20260123T130000
DTSTAMP:20260420T163559
CREATED:20260120T153933Z
LAST-MODIFIED:20260120T160640Z
UID:10001088-1769169600-1769173200@www.masc.org
SUMMARY:Learning Lunch: Using Data to Inform Decision-Making (Session 1 of 2)
DESCRIPTION:Hosted by Division X\, this Learning Lunch is open to all members and serves as the first session in a two-part series. Each session stands alone\, and attendees are welcome to participate in one or both. \nDr. Darnisa Amante-Jackson will host a dynamic and interactive Lunch and Learn for MASC members on January 23rd from 12-1pm\, via zoom. The purpose of this session is to help school committee members understand where to find relevant data\, such as from DESE\, and how to use that data to inform their decision-making. The Lunch and Learn is an important step in providing practical\, applicable training to equip school committee members with the skills and knowledge they need to make informed decisions for their districts and to continue partnership with superintendents to advance outcomes for all. \nWe encourage participants\, however it is not mandatory\, to register in pairs to maximize your learning and embedding of your learning following the session. \nSession Goals/Outcomes\n● Provide a key information update on data analysis\n● Refresh participants on essential data-related skills and knowledge\n● Presenting key data analysis information and skills
URL:https://www.masc.org/event/learning-lunch-using-data-to-inform-decision-making-session-1-of-2/
LOCATION:MA
CATEGORIES:Division Meetings,Workshop
ATTACH;FMTTYPE=image/png:https://www.masc.org/wp-content/uploads/2026/01/Other-MASC-Event-Images-12.png
END:VEVENT
BEGIN:VEVENT
DTSTART;TZID=America/New_York:20260203T173000
DTEND;TZID=America/New_York:20260203T183000
DTSTAMP:20260420T163559
CREATED:20260122T201500Z
LAST-MODIFIED:20260127T151157Z
UID:10001090-1770139800-1770143400@www.masc.org
SUMMARY:Berkshire County Legislative Forum
DESCRIPTION:Please join us for a Legislative Forum with State Representatives Leigh Davis\, John Barrett\,Tricia Farley-Bouvier and State Senator Paul Mark on Tuesday\, February 3 from 5:30-6:30pm over Zoom. This discussion will focus on the state budget outlook; rural schools funding status; Division 6 regionalization efforts; graduation requirements\, and any other topics you or the legislators want to address. \n  \nYou will receive a zoom link upon registration. Please submit questions via the RSVP form\, so we can be sure to address those over the course of the discussion. You are welcome to share this invitation with your administrative staff as well.
URL:https://www.masc.org/event/berkshire-county-legislative-forum/
LOCATION:MA
CATEGORIES:Division Meetings
ATTACH;FMTTYPE=image/png:https://www.masc.org/wp-content/uploads/2026/01/Other-MASC-Event-Images-14.png
END:VEVENT
BEGIN:VEVENT
DTSTART;TZID=America/New_York:20260313T120000
DTEND;TZID=America/New_York:20260313T130000
DTSTAMP:20260420T163559
CREATED:20260130T191536Z
LAST-MODIFIED:20260130T200236Z
UID:10001096-1773403200-1773406800@www.masc.org
SUMMARY:Division III Meeting: Chapter 70 & the Student Opportunity Act
DESCRIPTION:Join Division III and your colleagues from across the Commonwealth for a discussion on Chapter 70 and the Student Opportunity Act! This session will provide an overview of how the formula works\, what factors impact each district’s allocation\, and how recent policy changes and budget proposals may affect your community. Whether you’re new to school finance or looking for a refresher\, this session will help you better understand the numbers behind your district’s budget—and how to advocate effectively for fair and adequate funding.
URL:https://www.masc.org/event/division-iii-meeting-chapter-70-the-student-opportunity-act/
LOCATION:MA
CATEGORIES:Division Meetings
ATTACH;FMTTYPE=image/png:https://www.masc.org/wp-content/uploads/2026/01/Other-MASC-Event-Images-18.png
END:VEVENT
BEGIN:VEVENT
DTSTART;TZID=America/New_York:20260318T180000
DTEND;TZID=America/New_York:20260318T190000
DTSTAMP:20260420T163559
CREATED:20260218T202033Z
LAST-MODIFIED:20260218T202033Z
UID:10001103-1773856800-1773860400@www.masc.org
SUMMARY:Division IX Meet & Greet
DESCRIPTION:Join fellow members of MASC’s Division IX – our Urban Division representing cities across the Commonwealth – for a virtual meet and greet! This informal session will provide an opportunity for school committee members and district leaders to introduce themselves\, discuss the challenges facing their city\, and share strategies that are working in their communities. \nThis event is open to all MASC members who are interested in joining the conversation and learning more about the issues impacting our urban districts. Whether you are new to Division IX or a longtime participant\, this is a valuable opportunity to build relationships\, exchange ideas\, and strengthen collaboration across communities.
URL:https://www.masc.org/event/division-ix-meet-greet/
LOCATION:MA
CATEGORIES:Division Meetings
ATTACH;FMTTYPE=image/png:https://www.masc.org/wp-content/uploads/2026/02/Other-MASC-Event-Images-5.png
END:VEVENT
BEGIN:VEVENT
DTSTART;TZID=America/New_York:20260401T120000
DTEND;TZID=America/New_York:20260401T130000
DTSTAMP:20260420T163559
CREATED:20260326T162049Z
LAST-MODIFIED:20260326T162049Z
UID:10001109-1775044800-1775048400@www.masc.org
SUMMARY:Division IV Meeting: Understanding Overrides: Process\, Impacts\, and Best Practices
DESCRIPTION:Join us for a Division IV Learning Lunch focused on one of the most important—and often complex—tools in municipal finance: overrides. This session will walk through the override process from start to finish\, including how and when overrides are pursued\, their impact on school district budgets\, and key considerations for school committee members. Participants will also gain insight into effective practices for planning\, communication\, and community engagement. \nThis meeting is open to all members\, regardless of division.
URL:https://www.masc.org/event/division-iv-meeting-understanding-overrides-process-impacts-and-best-practices/
LOCATION:MA
CATEGORIES:Division Meetings
ATTACH;FMTTYPE=image/png:https://www.masc.org/wp-content/uploads/2026/03/Other-MASC-Event-Images-22.png
END:VEVENT
BEGIN:VEVENT
DTSTART;TZID=America/New_York:20260408T190000
DTEND;TZID=America/New_York:20260408T200000
DTSTAMP:20260420T163559
CREATED:20260402T164300Z
LAST-MODIFIED:20260407T155204Z
UID:10001110-1775674800-1775678400@www.masc.org
SUMMARY:Division VIII Meeting - Lapel Pin Contest Winner Announcement
DESCRIPTION:Join Division VIII for a special meeting as we unveil the winning design of our lapel pin contest. After reviewing a range of creative and thoughtful submissions\, we are excited to recognize the selected design that will represent Division VIII moving forward. This session will highlight the inspiration behind the winning entry\, acknowledge participants\, and provide an opportunity for members to connect and celebrate the creativity within our community. All are welcome to attend.
URL:https://www.masc.org/event/division-viii-meeting-lapel-pin-contest-winner-announcement/
LOCATION:MA
CATEGORIES:Division Meetings
ATTACH;FMTTYPE=image/png:https://www.masc.org/wp-content/uploads/2026/04/Other-MASC-Event-Images-24.png
END:VEVENT
BEGIN:VEVENT
DTSTART;VALUE=DATE:20260418
DTEND;VALUE=DATE:20260419
DTSTAMP:20260420T163559
CREATED:20260311T202525Z
LAST-MODIFIED:20260415T163849Z
UID:10001106-1776470400-1776556799@www.masc.org
SUMMARY:Division VIII Meeting: Whittier Tech
DESCRIPTION:Join your fellow Division VIII members for a regional cluster meeting hosted at Whittier Tech beginning at 9 AM. This gathering provides an opportunity for school committee members to connect with colleagues\, share updates from across the division\, and discuss issues and initiatives impacting districts in our region.\n\n*Note: specific agenda and details will be shared as we get closer to the session.
URL:https://www.masc.org/event/division-viii-meeting-whittier-tech/
LOCATION:Whittier Regional Vocational Technical High School\, 115 Amesbury Line Rd\, Haverhill\, MA\, 01830\, United States
CATEGORIES:Division Meetings
ATTACH;FMTTYPE=image/png:https://www.masc.org/wp-content/uploads/2026/03/Other-MASC-Event-Images-25.png
END:VEVENT
BEGIN:VEVENT
DTSTART;TZID=America/New_York:20260430T180000
DTEND;TZID=America/New_York:20260430T200000
DTSTAMP:20260420T163559
CREATED:20260415T211613Z
LAST-MODIFIED:20260415T211613Z
UID:10001113-1777572000-1777579200@www.masc.org
SUMMARY:Division I & II Meeting: How School Committee members can tell your story - in partnership with your Superintendent utilizing district data
DESCRIPTION:As we prepare to address state financial aid to school districts\, join us for a timely discussion on the key issues we must bring before the Legislature during House and Senate deliberations—and the inevitable conference committee process that follows. This is an opportunity to share ideas\, exchange information\, and discuss effective strategies to ensure your voice is heard. \nJoin your school committee colleagues from Northeast Massachusetts (Division I) and the Metropolitan Division (Division II) for an evening of discussion and networking. A buffet dinner will be served\, and the meeting will take place at the new venue for our Annual Conference this November. \nTopic: How school committee members can tell their district’s story—in partnership with their superintendent—using district data \nFocus areas include: \n\nFiscal challenges\nLegislative priorities\nDistrict needs\nStudent needs\nSpecial education implications\nTransportation implications\nUnexpected costs and resource needs
URL:https://www.masc.org/event/division-i-ii-meeting-how-school-committee-members-can-tell-your-story-in-partnership-with-your-superintendent-utilizing-district-data/
LOCATION:Doubletree by Hilton Hotel Boston North Shore\, 50 Ferncroft Rd\, Danvers\, MA\, 01923\, United States
CATEGORIES:Division Meetings
ATTACH;FMTTYPE=image/png:https://www.masc.org/wp-content/uploads/2026/04/Other-MASC-Event-Images-29.png
END:VEVENT
BEGIN:VEVENT
DTSTART;TZID=America/New_York:20260514T180000
DTEND;TZID=America/New_York:20260514T200000
DTSTAMP:20260420T163559
CREATED:20260130T194129Z
LAST-MODIFIED:20260130T201148Z
UID:10001097-1778781600-1778788800@www.masc.org
SUMMARY:Division III Meeting: Dinner & Legislative Update
DESCRIPTION:Join us for an in-person Division III meeting on Thursday\, May 14th\, at 6PM at Southeastern Regional. This meeting will feature a legislative update with state legislators\, providing valuable insights into key education policy discussions. \nDinner will be served. This is a great opportunity to connect with fellow school committee members\, hear directly from legislators\, and discuss issues impacting our districts. Please RSVP to help us plan accordingly. We look forward to seeing you there!
URL:https://www.masc.org/event/division-iii-meeting-dinner-legislative-update/
LOCATION:Southeastern Regional Vocational Technical HS\, 250 Foundry St\, South Easton\, 02375
CATEGORIES:Division Meetings
ATTACH;FMTTYPE=image/png:https://www.masc.org/wp-content/uploads/2026/01/Other-MASC-Event-Images-20.png
END:VEVENT
BEGIN:VEVENT
DTSTART;TZID=America/New_York:20260520T180000
DTEND;TZID=America/New_York:20260520T190000
DTSTAMP:20260420T163559
CREATED:20260407T154930Z
LAST-MODIFIED:20260408T160940Z
UID:10001111-1779300000-1779303600@www.masc.org
SUMMARY:A Briefing on Funding and State Graduation Standards
DESCRIPTION:On May 20th\, Division V of the Massachusetts Association of School Committees (MASC)\, working alongside collaborating Divisions I\, IV\, VI\, and VII\, is pleased to present A Briefing on Funding and State Graduation Standards (Virtual 6-7pm EST) \nSchool committees across the Commonwealth could be facing a perfect fiscal storm of budgeting with the additional issue of new state graduation and mastery standards. As districts face difficult Proposition 2/1/2 overrides\, and as small and rural districts confront budget and funding issues\, on another front\, the state is moving forward with a possible new graduation framework that could involve new course requirements\, testing that might be state-scored\, and undermine the goals of Question 2 (2024) that stopped use of the high-stakes graduation test. \nSchool Committee members should welcome the opportunity to hear about their options\, the ongoing work of the “Graduation Commission”\, and to learn how the decision-making process could disempower local districts at the expense of more authority for the state. \nWe are hosting a briefing session for school committee members to learn more and begin to consider strategies to make the next generation of accountability more reasonable before recommendations are sent to the legislature or the Governor for action. \nJoin us on May 20th at 6pm for a one-hour virtual program to gain an insider’s view of these developments and how we can advocate for our students at the State House. \nFeatured Speakers: \nJessica Corwin\, MASC Rural Schools Committee: On the front lines of the unique fiscal and operational challenges facing our small and rural districts. \nJason Fraser\, MASC Representative on the Graduation Commission: Providing an update on the current deliberations and the push for more rigid\, standardized graduation requirements. \nWhen: 6-7pm on Wednesday May 20\, 2026 \nWhere: Zoom link sent in email confirmation \nREGISTER TODAY \nBrought to you by Division V\, alongside collaborating Divisions I\, IV\, VI\, and VII.
URL:https://www.masc.org/event/a-briefing-on-funding-and-state-graduation-standards/
LOCATION:MA
CATEGORIES:Division Meetings
ATTACH;FMTTYPE=image/png:https://www.masc.org/wp-content/uploads/2026/04/Other-MASC-Event-Images-28.png
END:VEVENT
BEGIN:VEVENT
DTSTART;VALUE=DATE:20260926
DTEND;VALUE=DATE:20260927
DTSTAMP:20260420T163559
CREATED:20260311T203337Z
LAST-MODIFIED:20260407T155516Z
UID:10001107-1790380800-1790467199@www.masc.org
SUMMARY:Division VIII Meeting: Keefe Tech
DESCRIPTION:Join your fellow Division VIII members for a regional cluster meeting hosted at Keefe Tech. This gathering provides an opportunity for school committee members to connect with colleagues\, share updates from across the division\, and discuss issues and initiatives impacting districts in our region.\n\n*Note: specific agenda and details will be shared as we get closer to the session.
URL:https://www.masc.org/event/division-viii-meeting-keefe-tech/
LOCATION:Keefe Regional Technical High School\, 750 Winter St\, Framingham\, Framingham\, MA\, 01702\, United States
CATEGORIES:Division Meetings
ATTACH;FMTTYPE=image/png:https://www.masc.org/wp-content/uploads/2026/03/Other-MASC-Event-Images-26.png
END:VEVENT
BEGIN:VEVENT
DTSTART;VALUE=DATE:20261017
DTEND;VALUE=DATE:20261018
DTSTAMP:20260420T163559
CREATED:20260311T203755Z
LAST-MODIFIED:20260407T155709Z
UID:10001108-1792195200-1792281599@www.masc.org
SUMMARY:Division VIII Meeting: Shawsheen Tech
DESCRIPTION:Join your fellow Division VIII members for a regional cluster meeting hosted at Shawsheen Tech. This gathering provides an opportunity for school committee members to connect with colleagues\, share updates from across the division\, and discuss issues and initiatives impacting districts in our region.\n\n*Note: specific agenda and details will be shared as we get closer to the session.
URL:https://www.masc.org/event/division-viii-meeting-shawsheen-tech/
LOCATION:Shawsheen Valley Technical High School\, 100 Cook St\, Billerica\, MA\, 01821\, United States
CATEGORIES:Division Meetings
ATTACH;FMTTYPE=image/png:https://www.masc.org/wp-content/uploads/2026/03/Other-MASC-Event-Images-27.png
END:VEVENT
END:VCALENDAR