BEGIN:VCALENDAR
VERSION:2.0
PRODID:-//masc.org - ECPv6.15.20//NONSGML v1.0//EN
CALSCALE:GREGORIAN
METHOD:PUBLISH
X-ORIGINAL-URL:https://www.masc.org
X-WR-CALDESC:Events for masc.org
REFRESH-INTERVAL;VALUE=DURATION:PT1H
X-Robots-Tag:noindex
X-PUBLISHED-TTL:PT1H
BEGIN:VTIMEZONE
TZID:America/New_York
BEGIN:DAYLIGHT
TZOFFSETFROM:-0500
TZOFFSETTO:-0400
TZNAME:EDT
DTSTART:20240310T070000
END:DAYLIGHT
BEGIN:STANDARD
TZOFFSETFROM:-0400
TZOFFSETTO:-0500
TZNAME:EST
DTSTART:20241103T060000
END:STANDARD
BEGIN:DAYLIGHT
TZOFFSETFROM:-0500
TZOFFSETTO:-0400
TZNAME:EDT
DTSTART:20250309T070000
END:DAYLIGHT
BEGIN:STANDARD
TZOFFSETFROM:-0400
TZOFFSETTO:-0500
TZNAME:EST
DTSTART:20251102T060000
END:STANDARD
BEGIN:DAYLIGHT
TZOFFSETFROM:-0500
TZOFFSETTO:-0400
TZNAME:EDT
DTSTART:20260308T070000
END:DAYLIGHT
BEGIN:STANDARD
TZOFFSETFROM:-0400
TZOFFSETTO:-0500
TZNAME:EST
DTSTART:20261101T060000
END:STANDARD
END:VTIMEZONE
BEGIN:VEVENT
DTSTART;TZID=America/New_York:20250411T120000
DTEND;TZID=America/New_York:20250411T130000
DTSTAMP:20260423T191425
CREATED:20250409T174111Z
LAST-MODIFIED:20250409T174111Z
UID:10001064-1744372800-1744376400@www.masc.org
SUMMARY:Learning Lunch: The Latest on Chapter 70 Funding
DESCRIPTION:Join us for a deep dive into Chapter 70! This session will provide an overview of how the formula works\, what factors impact each district’s allocation\, and how recent policy changes and budget proposals may affect your community. Whether you’re new to school finance or looking for a refresher\, this session will help you better understand the numbers behind your district’s budget—and how to advocate effectively for fair and adequate funding. \nTopics will include: \n\n\nThe foundation budget and how it’s calculated \n\n\nMinimum local contribution and required net school spending \n\n\nHow inflation\, enrollment\, and policy shifts affect your district’s aid \n\n\nWhere to find key data and how to use it in decision-making
URL:https://www.masc.org/event/learning-lunch-the-latest-on-chapter-70-funding/
CATEGORIES:Workshop
ATTACH;FMTTYPE=image/png:https://www.masc.org/wp-content/uploads/2025/04/Learning-Lunch-Images.png
END:VEVENT
END:VCALENDAR