BEGIN:VCALENDAR
VERSION:2.0
PRODID:-//masc.org - ECPv6.15.20//NONSGML v1.0//EN
CALSCALE:GREGORIAN
METHOD:PUBLISH
X-ORIGINAL-URL:https://www.masc.org
X-WR-CALDESC:Events for masc.org
REFRESH-INTERVAL;VALUE=DURATION:PT1H
X-Robots-Tag:noindex
X-PUBLISHED-TTL:PT1H
BEGIN:VTIMEZONE
TZID:America/New_York
BEGIN:DAYLIGHT
TZOFFSETFROM:-0500
TZOFFSETTO:-0400
TZNAME:EDT
DTSTART:20240310T070000
END:DAYLIGHT
BEGIN:STANDARD
TZOFFSETFROM:-0400
TZOFFSETTO:-0500
TZNAME:EST
DTSTART:20241103T060000
END:STANDARD
BEGIN:DAYLIGHT
TZOFFSETFROM:-0500
TZOFFSETTO:-0400
TZNAME:EDT
DTSTART:20250309T070000
END:DAYLIGHT
BEGIN:STANDARD
TZOFFSETFROM:-0400
TZOFFSETTO:-0500
TZNAME:EST
DTSTART:20251102T060000
END:STANDARD
BEGIN:DAYLIGHT
TZOFFSETFROM:-0500
TZOFFSETTO:-0400
TZNAME:EDT
DTSTART:20260308T070000
END:DAYLIGHT
BEGIN:STANDARD
TZOFFSETFROM:-0400
TZOFFSETTO:-0500
TZNAME:EST
DTSTART:20261101T060000
END:STANDARD
END:VTIMEZONE
BEGIN:VEVENT
DTSTART;TZID=America/New_York:20250507T093000
DTEND;TZID=America/New_York:20250507T120000
DTSTAMP:20260423T213010
CREATED:20250425T152628Z
LAST-MODIFIED:20250425T152628Z
UID:10001066-1746610200-1746619200@www.masc.org
SUMMARY:MSBA Webinar: Getting Started on a Path to Lower School Facility Operational Costs
DESCRIPTION:*Note this event is posted on behalf of the Massachusetts School Building Authority. This is not an MASC event.\nGetting Started on a Path to Lower School Facility Operational Costs\n\nRegistration is now OPEN! Join us for a free virtual program specific to rural communities in Massachusetts. Click HERE to register for the ZOOM program. \n\nOn Wednesday\, May 7 from 9:30  to noon\, local officials who have implemented recent school improvement projects will outline their struggles\, strategies and lessons learned to upgrade educational facilities while lowering operational costs.\n\nWe will also discuss funding sources from the State to assist with planning\, designing and constructing system upgrades or larger improvement projects for school buildings.\n\nThis program will be held virtually via ZOOM. If you have any questions about the upcoming program\, please email melanie.soter@massschoolbuildings.org. 
URL:https://www.masc.org/event/msba-webinar-getting-started-on-a-path-to-lower-school-facility-operational-costs/
CATEGORIES:Workshop
ATTACH;FMTTYPE=image/png:https://www.masc.org/wp-content/uploads/2025/04/msba-virtual-event-image.png
END:VEVENT
END:VCALENDAR