BEGIN:VCALENDAR
VERSION:2.0
PRODID:-//masc.org - ECPv6.15.20//NONSGML v1.0//EN
CALSCALE:GREGORIAN
METHOD:PUBLISH
X-WR-CALNAME:masc.org
X-ORIGINAL-URL:https://www.masc.org
X-WR-CALDESC:Events for masc.org
REFRESH-INTERVAL;VALUE=DURATION:PT1H
X-Robots-Tag:noindex
X-PUBLISHED-TTL:PT1H
BEGIN:VTIMEZONE
TZID:America/New_York
BEGIN:DAYLIGHT
TZOFFSETFROM:-0500
TZOFFSETTO:-0400
TZNAME:EDT
DTSTART:20250309T070000
END:DAYLIGHT
BEGIN:STANDARD
TZOFFSETFROM:-0400
TZOFFSETTO:-0500
TZNAME:EST
DTSTART:20251102T060000
END:STANDARD
BEGIN:DAYLIGHT
TZOFFSETFROM:-0500
TZOFFSETTO:-0400
TZNAME:EDT
DTSTART:20260308T070000
END:DAYLIGHT
BEGIN:STANDARD
TZOFFSETFROM:-0400
TZOFFSETTO:-0500
TZNAME:EST
DTSTART:20261101T060000
END:STANDARD
BEGIN:DAYLIGHT
TZOFFSETFROM:-0500
TZOFFSETTO:-0400
TZNAME:EDT
DTSTART:20270314T070000
END:DAYLIGHT
BEGIN:STANDARD
TZOFFSETFROM:-0400
TZOFFSETTO:-0500
TZNAME:EST
DTSTART:20271107T060000
END:STANDARD
END:VTIMEZONE
BEGIN:VEVENT
DTSTART;TZID=America/New_York:20260606T080000
DTEND;TZID=America/New_York:20260606T160000
DTSTAMP:20260420T001918
CREATED:20260209T204218Z
LAST-MODIFIED:20260209T204218Z
UID:10001100-1780732800-1780761600@www.masc.org
SUMMARY:Charting the Course - Fitchburg
DESCRIPTION:The hallmark of an effective school committee is how well its members understand their roles and the issues they need to address in these challenging times. \nThis training program\, developed and presented by the MASC Academy for School Leadership\, is designed to introduce new and aspiring school committee members to the Eight Key Components of School Leadership as identified by the MA Legislature in the Acts of 2002\, and also to provide veteran members with an update on ever-changing requirements and regulations school committee members should be aware of. \nThe Charting the Course program has been structured to meet the eight hour orientation requirement for new school committee members (MGL Chapter 71 Sec 36A).
URL:https://www.masc.org/event/charting-the-course-fitchburg/
LOCATION:Crocker Elementary School\, 200 Bigelow Rd\, Fitchburg\, MA\, 01420\, United States
CATEGORIES:Charting the Course
ATTACH;FMTTYPE=image/png:https://www.masc.org/wp-content/uploads/2024/12/charting-the-course-image-1.png
END:VEVENT
BEGIN:VEVENT
DTSTART;VALUE=DATE:20260926
DTEND;VALUE=DATE:20260927
DTSTAMP:20260420T001918
CREATED:20260311T203337Z
LAST-MODIFIED:20260407T155516Z
UID:10001107-1790380800-1790467199@www.masc.org
SUMMARY:Division VIII Meeting: Keefe Tech
DESCRIPTION:Join your fellow Division VIII members for a regional cluster meeting hosted at Keefe Tech. This gathering provides an opportunity for school committee members to connect with colleagues\, share updates from across the division\, and discuss issues and initiatives impacting districts in our region.\n\n*Note: specific agenda and details will be shared as we get closer to the session.
URL:https://www.masc.org/event/division-viii-meeting-keefe-tech/
LOCATION:Keefe Regional Technical High School\, 750 Winter St\, Framingham\, Framingham\, MA\, 01702\, United States
CATEGORIES:Division Meetings
ATTACH;FMTTYPE=image/png:https://www.masc.org/wp-content/uploads/2026/03/Other-MASC-Event-Images-26.png
END:VEVENT
BEGIN:VEVENT
DTSTART;VALUE=DATE:20261017
DTEND;VALUE=DATE:20261018
DTSTAMP:20260420T001918
CREATED:20260311T203755Z
LAST-MODIFIED:20260407T155709Z
UID:10001108-1792195200-1792281599@www.masc.org
SUMMARY:Division VIII Meeting: Shawsheen Tech
DESCRIPTION:Join your fellow Division VIII members for a regional cluster meeting hosted at Shawsheen Tech. This gathering provides an opportunity for school committee members to connect with colleagues\, share updates from across the division\, and discuss issues and initiatives impacting districts in our region.\n\n*Note: specific agenda and details will be shared as we get closer to the session.
URL:https://www.masc.org/event/division-viii-meeting-shawsheen-tech/
LOCATION:Shawsheen Valley Technical High School\, 100 Cook St\, Billerica\, MA\, 01821\, United States
CATEGORIES:Division Meetings
ATTACH;FMTTYPE=image/png:https://www.masc.org/wp-content/uploads/2026/03/Other-MASC-Event-Images-27.png
END:VEVENT
END:VCALENDAR